BEGIN:VCALENDAR
VERSION:2.0
PRODID:-//rfr/addtomycal//NONSGML v1.0//EN
BEGIN:VEVENT
UID:rouen.fr
DTSTAMP:20260421T093058Z
DTSTART:20231210T100000Z
DTEND:20231210T160000Z
SUMMARY:La journée ateliers de Rouen-Japon
DESCRIPTION:atelier - Atelier
 - tout public - Sur inscription
 - Rens. : www.rouenjapon.fr
 - Proposé par l'association Rouen-Japon
Prog. : préparer son voyage au Japon, calligraphie, origami, écrire son nom en japonais, koto, cuisine
Nombre de places limité

LOCATION:Maison Saint-Sever, 10
END:VEVENT
END:VCALENDAR
