BEGIN:VCALENDAR
VERSION:2.0
PRODID:-//rfr/addtomycal//NONSGML v1.0//EN
BEGIN:VEVENT
UID:rouen.fr
DTSTAMP:20260424T021828Z
DTSTART:20231210T140000Z
DTEND:20231210T140000Z
SUMMARY:Concert - Brass band en Seine
DESCRIPTION:musique - Rouen givrée
 - tout public - Gratuit
 - Rens. : https:
LOCATION:
END:VEVENT
END:VCALENDAR
