BEGIN:VCALENDAR
VERSION:2.0
PRODID:-//rfr/addtomycal//NONSGML v1.0//EN
BEGIN:VEVENT
UID:rouen.fr
DTSTAMP:20260420T073746Z
DTSTART:20231217T143000Z
DTEND:20231217T143000Z
SUMMARY:Atelier décoration de Noël
DESCRIPTION:atelier - Atelier
 - enfant - 3 € (gratuit pour les membres de l'association)
 - Rens. par téléphone au 07 66 01 04 89 ou par mail à asso.quartierdesbonsenfants@gmail.com
 - Proposé par l'association Quartier des Bons Enfants
Public : 3
LOCATION:11 ans
Goûter offert
Nombre de places limité

END:VEVENT
END:VCALENDAR
