BEGIN:VCALENDAR
VERSION:2.0
PRODID:-//rfr/addtomycal//NONSGML v1.0//EN
BEGIN:VEVENT
UID:rouen.fr
DTSTAMP:20260420T040447Z
DTSTART:20231222T130000Z
DTEND:20231222T130000Z
SUMMARY:Seniors connectés - Gérer sa boîte mail et organiser ses dossiers
DESCRIPTION:atelier - Numérique
 - senior - Gratuit, sur inscription
 - Inscriptions au 07 44 71 10 24
 - Apporter son matériel
Durée : 2h

LOCATION:Maison des aînés, 24 rue des Arsins
, Rouen
END:VEVENT
END:VCALENDAR
