BEGIN:VCALENDAR
VERSION:2.0
PRODID:-//rfr/addtomycal//NONSGML v1.0//EN
BEGIN:VEVENT
UID:rouen.fr
DTSTAMP:20260420T040809Z
DTSTART:20231223T090000Z
DTEND:20231223T100000Z
SUMMARY:Stretching musical
DESCRIPTION:sport - Atelier
 - tout public - 15 €
 - Inscriptions sur https:
LOCATION:
END:VEVENT
END:VCALENDAR
