BEGIN:VCALENDAR
VERSION:2.0
PRODID:-//rfr/addtomycal//NONSGML v1.0//EN
BEGIN:VEVENT
UID:rouen.fr
DTSTAMP:20260421T192158Z
DTSTART:20240205T180000Z
DTEND:20240205T180000Z
SUMMARY:Rencontre autour du film "Ici Brazza"
DESCRIPTION:rencontre - Rencontre
 - tout public - Gratuit, réservation conseillée
 - Rens. et réservations : par téléphone au 02 35 70 40 05, par mail à mel@echelleinconnue.net et sur www.echelleinconnue.net
 - Dans le cadre du Doctorat sauvage en cinéma
Rencontre avec le réalisateur du film Antoine Boutet et l'architecte Stany Cambot
En partenariat avec le festival Image de ville

LOCATION:Échelle inconnue, 11
END:VEVENT
END:VCALENDAR
