BEGIN:VCALENDAR
VERSION:2.0
PRODID:-//rfr/addtomycal//NONSGML v1.0//EN
BEGIN:VEVENT
UID:rouen.fr
DTSTAMP:20260421T015033Z
DTSTART:20240206T190000Z
DTEND:20240206T190000Z
SUMMARY:La (nouvelle) ronde
DESCRIPTION:spectacle - Spectacle
 - tout public - 20 € (TR 15 €)
 - Rens. : par téléphone au 02 35 70 22 82, par mail à billetterie@cdn-normandierouen.fr et sur www.cdn-normandierouen.fr
 - Par le Théâtre de Romette 
LOCATION: Johanny Bert
Tout public à partir de 16 ans
Durée : 1h45
Spectacle proposé en LSF le 7
END:VEVENT
END:VCALENDAR
