BEGIN:VCALENDAR
VERSION:2.0
PRODID:-//rfr/addtomycal//NONSGML v1.0//EN
BEGIN:VEVENT
UID:rouen.fr
DTSTAMP:20260419T210009Z
DTSTART:20240213T133000Z
DTEND:20240213T133000Z
SUMMARY:Nouvel An chinois - Peintures sur éventails chinois
DESCRIPTION:atelier - Atelier
 - senior - Sur inscription au 02 32 10 52 00
 -  - 
LOCATION:Résidence Saint-Filleul, 8 rue du Framboisier, Rouen
END:VEVENT
END:VCALENDAR
