BEGIN:VCALENDAR
VERSION:2.0
PRODID:-//rfr/addtomycal//NONSGML v1.0//EN
BEGIN:VEVENT
UID:rouen.fr
DTSTAMP:20260419T185842Z
DTSTART:20240222T180000Z
DTEND:20240222T180000Z
SUMMARY:Quand on vous aime comme ça
DESCRIPTION:spectacle - Cabaret littéraire
 - tout public - 5 €
 - Rens. : https:
LOCATION:
END:VEVENT
END:VCALENDAR
