BEGIN:VCALENDAR
VERSION:2.0
PRODID:-//rfr/addtomycal//NONSGML v1.0//EN
BEGIN:VEVENT
UID:rouen.fr
DTSTAMP:20260420T074112Z
DTSTART:20240301T170000Z
DTEND:20240301T170000Z
SUMMARY:Quasars et trous noirs
DESCRIPTION:conférence - Conférence
 - tout public - Entrée libre
 -  - À l'occasion des 140 ans de l'Observatoire de Rouen
Par Françoise Combes, professeur au Collège de France et vice-présidente de l'Académie des Sciences

LOCATION:Hôtel des sociétés savantes, 190 rue Beauvoisine
, Rouen
END:VEVENT
END:VCALENDAR
