BEGIN:VCALENDAR
VERSION:2.0
PRODID:-//rfr/addtomycal//NONSGML v1.0//EN
BEGIN:VEVENT
UID:rouen.fr
DTSTAMP:20260419T223608Z
DTSTART:20240305T093000Z
DTEND:20240305T110000Z
SUMMARY:Atelier Baz'Art
DESCRIPTION:atelier - Atelier
 - enfant - 15 €
 - Rens. : par téléphone au 02 76 08 72 67, par mail à atelierscitemomes@gmail.com
Inscriptions sur https:
LOCATION:
END:VEVENT
END:VCALENDAR
