BEGIN:VCALENDAR
VERSION:2.0
PRODID:-//rfr/addtomycal//NONSGML v1.0//EN
BEGIN:VEVENT
UID:rouen.fr
DTSTAMP:20260425T234410Z
DTSTART:20240307T160000Z
DTEND:20240307T160000Z
SUMMARY:Une Europe adaptée à l'ère numérique
DESCRIPTION:conférence - Conférence
 - tout public - Gratuit, sur inscription
 - Rens. et inscriptions : https:
LOCATION:
END:VEVENT
END:VCALENDAR
