BEGIN:VCALENDAR
VERSION:2.0
PRODID:-//rfr/addtomycal//NONSGML v1.0//EN
BEGIN:VEVENT
UID:rouen.fr
DTSTAMP:20260421T080657Z
DTSTART:20240308T090000Z
DTEND:20240308T120000Z
SUMMARY:Atelier cuisine (crêpes, beignets…)
DESCRIPTION:atelier - Atelier
 - tout public - Gratuit, sur inscription
 - Rens. et inscriptions à l'accueil du centre social ou par téléphone au 02 35 08 88 80
 - Tout public
Atelier suivi d'un goûter partagé

LOCATION:Centre social Diana-Armengol-Markarian, place du Châtelet
, Rouen
END:VEVENT
END:VCALENDAR
