BEGIN:VCALENDAR
VERSION:2.0
PRODID:-//rfr/addtomycal//NONSGML v1.0//EN
BEGIN:VEVENT
UID:rouen.fr
DTSTAMP:20260420T205713Z
DTSTART:20240308T183000Z
DTEND:20240308T183000Z
SUMMARY:Rouen-Aurillac
DESCRIPTION:sport - Rugby
 - tout public - Payant
 - Rens. : https:
LOCATION:
END:VEVENT
END:VCALENDAR
