BEGIN:VCALENDAR
VERSION:2.0
PRODID:-//rfr/addtomycal//NONSGML v1.0//EN
BEGIN:VEVENT
UID:rouen.fr
DTSTAMP:20260424T180530Z
DTSTART:20240309T100000Z
DTEND:20240309T100000Z
SUMMARY:Atelier - L'apprenti chocolatier
DESCRIPTION:atelier - Atelier
 - enfant - Payant
 - Rens. et réserv. : www.visiterouen.com
 - Public : 7
LOCATION:11 ans
Thème : En attendant Pâques
Durée : 1h

END:VEVENT
END:VCALENDAR
