BEGIN:VCALENDAR
VERSION:2.0
PRODID:-//rfr/addtomycal//NONSGML v1.0//EN
BEGIN:VEVENT
UID:rouen.fr
DTSTAMP:20260421T141543Z
DTSTART:20240316T190000Z
DTEND:20240316T190000Z
SUMMARY:Franck Terrier jazz trio
DESCRIPTION:musique - Concert
 - tout public - 5 €
 - Réserv. sur www.billetweb.fr
LOCATION:franck-terrier-jazz-trio-1ere-partie
 - 1re partie de rythmique jazz avec les élèves de la Maison des arts et de la musique

END:VEVENT
END:VCALENDAR
