BEGIN:VCALENDAR
VERSION:2.0
PRODID:-//rfr/addtomycal//NONSGML v1.0//EN
BEGIN:VEVENT
UID:rouen.fr
DTSTAMP:20260422T023240Z
DTSTART:20240322T110000Z
DTEND:20240322T110000Z
SUMMARY:Atelier d'écriture - YAOX
DESCRIPTION:atelier - Atelier
 - tout public - Gratuit
 - Rens. : https:
LOCATION:
END:VEVENT
END:VCALENDAR
