BEGIN:VCALENDAR
VERSION:2.0
PRODID:-//rfr/addtomycal//NONSGML v1.0//EN
BEGIN:VEVENT
UID:rouen.fr
DTSTAMP:20260420T024119Z
DTSTART:20240323T180000Z
DTEND:20240323T200000Z
SUMMARY:Le Sport donne des elles - Soirée Danc'in Fluo
DESCRIPTION:sport - Sport
 - tout public - Gratuit, sur inscription
 - Rens. et inscriptions : https:
LOCATION:
END:VEVENT
END:VCALENDAR
