BEGIN:VCALENDAR
VERSION:2.0
PRODID:-//rfr/addtomycal//NONSGML v1.0//EN
BEGIN:VEVENT
UID:rouen.fr
DTSTAMP:20260422T175947Z
DTSTART:20240404T120000Z
DTEND:20240404T143000Z
SUMMARY:Forum - Seniors connectés
DESCRIPTION:salon - Numérique
 - senior - Accès libre
 - Rens. : 07 44 71 10 24
 - 
LOCATION:Halle aux toiles, place de la Basse Vieille Tour
, Rouen
END:VEVENT
END:VCALENDAR
