BEGIN:VCALENDAR
VERSION:2.0
PRODID:-//rfr/addtomycal//NONSGML v1.0//EN
BEGIN:VEVENT
UID:rouen.fr
DTSTAMP:20260421T001237Z
DTSTART:20240406T133000Z
DTEND:20240406T133000Z
SUMMARY:Carte blanche théâtre
DESCRIPTION:spectacle - Théâtre
 - tout public - Gratuit, sur réservation
 - Rens. : 02 32 08 13 55 et sur www.conservatoirederouen.fr
 - Par le département Théâtre

LOCATION:Conservatoire, avenue de la Porte des Champs (auditorium)
, Rouen
END:VEVENT
END:VCALENDAR
