BEGIN:VCALENDAR
VERSION:2.0
PRODID:-//rfr/addtomycal//NONSGML v1.0//EN
BEGIN:VEVENT
UID:rouen.fr
DTSTAMP:20260420T115441Z
DTSTART:20240406T133000Z
DTEND:20240406T133000Z
SUMMARY:Rouen gourmande
DESCRIPTION:visite - Visite gastronomique
 - tout public - 20 €
 - Rens. : 02 32 08 32 40 et sur www.visiterouen.com
 - Épicuriens, gourmets ou gourmands, cette visite est faite pour vous
Découverte de l'histoire gastronomique de la ville et de ses emblèmes culinaires avec, cerise sur le gâteau, cinq dégustations au coin des rues

LOCATION:Rdv devant l'Office de tourisme, 25 place de la Cathédrale
, Rouen
END:VEVENT
END:VCALENDAR
