BEGIN:VCALENDAR
VERSION:2.0
PRODID:-//rfr/addtomycal//NONSGML v1.0//EN
BEGIN:VEVENT
UID:rouen.fr
DTSTAMP:20260421T061943Z
DTSTART:20240413T183000Z
DTEND:20240413T183000Z
SUMMARY:Rouen-Chambéry Savoie
DESCRIPTION:sport - Handball masculin
 - tout public - Payant
 - www.facebook.com
LOCATION:Rouenhandball
 - 22e journée du championnat Nationale 1 masculine

END:VEVENT
END:VCALENDAR
