BEGIN:VCALENDAR
VERSION:2.0
PRODID:-//rfr/addtomycal//NONSGML v1.0//EN
BEGIN:VEVENT
UID:rouen.fr
DTSTAMP:20260420T022753Z
DTSTART:20240417T173000Z
DTEND:20240417T173000Z
SUMMARY:La moure
DESCRIPTION:spectacle - Cirque
 - tout public - Gratuit
 - Rens. et réservations : www.festival-spring.eu
 - À l'occasion du 15e festival "Spring"
Spectacle amateur
Public : à partir de 6 ans
Durée estimée : 45 minutes

LOCATION:Collège Édouard-Branly, Grand-Quevilly
END:VEVENT
END:VCALENDAR
