BEGIN:VCALENDAR
VERSION:2.0
PRODID:-//rfr/addtomycal//NONSGML v1.0//EN
BEGIN:VEVENT
UID:rouen.fr
DTSTAMP:20260419T171809Z
DTSTART:20240423T153000Z
DTEND:20240423T183000Z
SUMMARY:Job dating pour l'emploi des jeunes
DESCRIPTION:salon - Emploi
 - tout public - Gratuit, sur inscription
 - Rens. : https:
LOCATION:
END:VEVENT
END:VCALENDAR
