BEGIN:VCALENDAR
VERSION:2.0
PRODID:-//rfr/addtomycal//NONSGML v1.0//EN
BEGIN:VEVENT
UID:rouen.fr
DTSTAMP:20260422T004651Z
DTSTART:20240430T140000Z
DTEND:20240430T140000Z
SUMMARY:Sophrologie
DESCRIPTION:atelier - Atelier
 - senior - Sur inscription au 02 32 08 60 80
 -  - Présence demandée aux 4 séances
Durée : 1h

LOCATION:Gymnase Nelson-Mandela, 7 rue des Murs Saint Yon
, Rouen
END:VEVENT
END:VCALENDAR
