BEGIN:VCALENDAR
VERSION:2.0
PRODID:-//rfr/addtomycal//NONSGML v1.0//EN
BEGIN:VEVENT
UID:rouen.fr
DTSTAMP:20260420T073832Z
DTSTART:20240511T083000Z
DTEND:20240511T163000Z
SUMMARY:Fêtes Jeanne d'Arc - Animations, contes et théâtre de rue
DESCRIPTION:fête populaire - Fêtes Jeanne d'Arc
 - tout public - Gratuit
 - Rens. : https:
LOCATION:
END:VEVENT
END:VCALENDAR
