BEGIN:VCALENDAR
VERSION:2.0
PRODID:-//rfr/addtomycal//NONSGML v1.0//EN
BEGIN:VEVENT
UID:rouen.fr
DTSTAMP:20260422T224839Z
DTSTART:20240511T150000Z
DTEND:20240511T150000Z
SUMMARY:(Dé)formation professionnelle
DESCRIPTION:spectacle - Curieux printemps
 - tout public - Gratuit, sur réservation
 - Rens. et réserv. : https:
LOCATION:
END:VEVENT
END:VCALENDAR
