BEGIN:VCALENDAR
VERSION:2.0
PRODID:-//rfr/addtomycal//NONSGML v1.0//EN
BEGIN:VEVENT
UID:rouen.fr
DTSTAMP:20260419T224456Z
DTSTART:20240515T083000Z
DTEND:20240515T083000Z
SUMMARY:À petits petons vers les histoires : Émilie Vast
DESCRIPTION:rencontre - Conte
 - enfant - Gratuit, sur inscription
 - Rens. : 02 76 08 80 88 et sur https:
LOCATION:
END:VEVENT
END:VCALENDAR
