BEGIN:VCALENDAR
VERSION:2.0
PRODID:-//rfr/addtomycal//NONSGML v1.0//EN
BEGIN:VEVENT
UID:rouen.fr
DTSTAMP:20260421T185443Z
DTSTART:20240518T160000Z
DTEND:20240518T160000Z
SUMMARY:Nuit des musées - Lecture "Bonjour Monsieur Pasteur"
DESCRIPTION:rencontre - Nuit des musées
 - tout public - Gratuit, sur inscription
 - Réserv. : par téléphone au 02 35 07 66 61, par mail à munae-reservation@reseau-canope.fr
Rens. : https:
LOCATION:
END:VEVENT
END:VCALENDAR
