BEGIN:VCALENDAR
VERSION:2.0
PRODID:-//rfr/addtomycal//NONSGML v1.0//EN
BEGIN:VEVENT
UID:rouen.fr
DTSTAMP:20260421T035300Z
DTSTART:20240523T080000Z
DTEND:20240523T080000Z
SUMMARY:Mémoire et héritage
DESCRIPTION:visite - Balade commentée et musicale
 - tout public - Gratuit
 - Rens. : Rouencitoyenne@rouen.fr
 - Dans le cadre de la Journée nationale en hommage aux victimes de l'esclavage colonial
Visite menée par Aurélie Daniel - Les balades rouennaises, et Philippe Gouyer-Montout, dit Philo

LOCATION:Départ de la Halle aux toiles
, Rouen
END:VEVENT
END:VCALENDAR
