BEGIN:VCALENDAR
VERSION:2.0
PRODID:-//rfr/addtomycal//NONSGML v1.0//EN
BEGIN:VEVENT
UID:rouen.fr
DTSTAMP:20260420T072741Z
DTSTART:20240525T130000Z
DTEND:20240525T160000Z
SUMMARY:Dédicace - Agnès Maupré
DESCRIPTION:rencontre - Dédicace
 - tout public - Accès libre
 - Rens. : https:
LOCATION:
END:VEVENT
END:VCALENDAR
