BEGIN:VCALENDAR
VERSION:2.0
PRODID:-//rfr/addtomycal//NONSGML v1.0//EN
BEGIN:VEVENT
UID:rouen.fr
DTSTAMP:20260422T113317Z
DTSTART:20240531T100000Z
DTEND:20240531T120000Z
SUMMARY:Fête des voisins des lieux culturels et de proximité - Centre Jean-Texcier
DESCRIPTION:fête populaire - Animation
 - tout public - Accès libre
 -  - Repas partagé

LOCATION:Centre Jean-Texcier, 78 rue Jean Texcier
, Rouen
END:VEVENT
END:VCALENDAR
