BEGIN:VCALENDAR
VERSION:2.0
PRODID:-//rfr/addtomycal//NONSGML v1.0//EN
BEGIN:VEVENT
UID:rouen.fr
DTSTAMP:20260422T171639Z
DTSTART:20240605T120000Z
DTEND:20240605T160000Z
SUMMARY:Fit'Day
DESCRIPTION:sport - Sport
 - tout public - Gratuit
 -  - Proposé par l'Élan gymnique rouennais (EGR)
Prog. : animation musculation, initiation Crossfit, challenge

LOCATION:Place Saint-Sever
, Rouen
END:VEVENT
END:VCALENDAR
