BEGIN:VCALENDAR
VERSION:2.0
PRODID:-//rfr/addtomycal//NONSGML v1.0//EN
BEGIN:VEVENT
UID:rouen.fr
DTSTAMP:20260423T003646Z
DTSTART:20240613T070000Z
DTEND:20240613T160000Z
SUMMARY:Colloque du Groupement national des Centres ressources Autisme
DESCRIPTION:conférence - Colloque
 - tout public - Payant
 - Rens. et inscriptions : https:
LOCATION:
END:VEVENT
END:VCALENDAR
