BEGIN:VCALENDAR
VERSION:2.0
PRODID:-//rfr/addtomycal//NONSGML v1.0//EN
BEGIN:VEVENT
UID:rouen.fr
DTSTAMP:20260424T104617Z
DTSTART:20240613T170000Z
DTEND:20240613T200000Z
SUMMARY:Rush - BCUC + Baby Volcano
DESCRIPTION:musique - Concert
 - tout public - Gratuit
 - Rens. : https:
LOCATION:
END:VEVENT
END:VCALENDAR
