BEGIN:VCALENDAR
VERSION:2.0
PRODID:-//rfr/addtomycal//NONSGML v1.0//EN
BEGIN:VEVENT
UID:rouen.fr
DTSTAMP:20260419T204800Z
DTSTART:20240615T080000Z
DTEND:20240615T170000Z
SUMMARY:Chibi Rouen
DESCRIPTION:salon - Salon
 - tout public - À partir de 14 €
 - Rens. : https:
LOCATION:
END:VEVENT
END:VCALENDAR
