BEGIN:VCALENDAR
VERSION:2.0
PRODID:-//rfr/addtomycal//NONSGML v1.0//EN
BEGIN:VEVENT
UID:rouen.fr
DTSTAMP:20260421T225956Z
DTSTART:20240615T130000Z
DTEND:20240615T160000Z
SUMMARY:Marché de producteurs et de créateurs
DESCRIPTION:salon - Marché
 - tout public - Accès libre
 -  - 
LOCATION:Verger de Cauville, entre le 62 et le 64 de la rue de Cauville
, Rouen
END:VEVENT
END:VCALENDAR
