BEGIN:VCALENDAR
VERSION:2.0
PRODID:-//rfr/addtomycal//NONSGML v1.0//EN
BEGIN:VEVENT
UID:rouen.fr
DTSTAMP:20260423T054252Z
DTSTART:20240615T160000Z
DTEND:20240615T173000Z
SUMMARY:Rue du Jazz - Costil Swingers 5tet
DESCRIPTION:musique - Concert
 - tout public - Gratuit
 -  - 10e édition

LOCATION:Rue des Bons Enfants
, Rouen
END:VEVENT
END:VCALENDAR
