BEGIN:VCALENDAR
VERSION:2.0
PRODID:-//rfr/addtomycal//NONSGML v1.0//EN
BEGIN:VEVENT
UID:rouen.fr
DTSTAMP:20260420T074036Z
DTSTART:20240616T120000Z
DTEND:20240616T120000Z
SUMMARY:Animations croisées
DESCRIPTION:spectacle - Spectacle
 - tout public - Gratuit
 - Rens. : 07 60 18 19 68 et sur www.maisondesloisirs-deve.fr
 - Présentation artistique et
LOCATION:ou musicale des différentes activités de la Maison des loisirs Dévé (chant, expos photos, activités manuelles, langues étrangères, jeux autour de l'écriture…)
Le samedi après-midi : initiations au tennis de table et à la pétanque
L'atelier théâtre présente "Brèves de trottoir" samedi soir et dimanche après-midi

END:VEVENT
END:VCALENDAR
