BEGIN:VCALENDAR
VERSION:2.0
PRODID:-//rfr/addtomycal//NONSGML v1.0//EN
BEGIN:VEVENT
UID:rouen.fr
DTSTAMP:20260420T074633Z
DTSTART:20240620T080000Z
DTEND:20240620T160000Z
SUMMARY:Toutes et tous réfugiés !
DESCRIPTION:rencontre - Animation
 - tout public - Accès libre
 -  - À l'occasion de la Journée mondiale des réfugiés
De 10h à 12h : échange et partage d'expériences des intervenants FLE et Alpha autour d'un café
De 14h à 18h : ateliers percussion, cuisine, écriture, musique et danse du monde

LOCATION:Centre André-Malraux, rue François Couperin
, Rouen
END:VEVENT
END:VCALENDAR
