BEGIN:VCALENDAR
VERSION:2.0
PRODID:-//rfr/addtomycal//NONSGML v1.0//EN
BEGIN:VEVENT
UID:rouen.fr
DTSTAMP:20260426T012347Z
DTSTART:20240620T173000Z
DTEND:20240620T203000Z
SUMMARY:Soirée Loup Garou
DESCRIPTION:rencontre - Jeu de société
 - tout public - Entrée libre
 - Réservation sur place
Rens. : 02 78 08 91 32 et sur https:
LOCATION:
END:VEVENT
END:VCALENDAR
