BEGIN:VCALENDAR
VERSION:2.0
PRODID:-//rfr/addtomycal//NONSGML v1.0//EN
BEGIN:VEVENT
UID:rouen.fr
DTSTAMP:20260420T190816Z
DTSTART:20240621T120000Z
DTEND:20240621T120000Z
SUMMARY:Seniors connectés - Comment faire de la place sur son smartphone ou sa tablette
DESCRIPTION:atelier - Numérique
 - senior - Gratuit, sur inscription
 - Rens. et inscriptions par téléphone au 07 44 71 10 24
 - Durée : 2h
Apporter son smartphone et
LOCATION:ou sa tablette

END:VEVENT
END:VCALENDAR
