BEGIN:VCALENDAR
VERSION:2.0
PRODID:-//rfr/addtomycal//NONSGML v1.0//EN
BEGIN:VEVENT
UID:rouen.fr
DTSTAMP:20260421T014923Z
DTSTART:20240622T080000Z
DTEND:20240622T150000Z
SUMMARY:Portes ouvertes - Centre d'incendie et de secours Rouen-Gambetta
DESCRIPTION:salon - Portes ouvertes
 - tout public - Accès libre
 -  - Parcours sportifs, initiations aux gestes de secours d'urgence, essayages de lances à main, présentations d'engins et matériels
Démonstration de brancardage à 10h30 ; de feu de friteuse et de bouteille de gaz à 11h30 ; manœuvres de secours en milieu périlleux à 15h30

LOCATION:Centre d'incendie et de secours Rouen-Gambetta, boulevard Gambetta
, Rouen
END:VEVENT
END:VCALENDAR
