BEGIN:VCALENDAR
VERSION:2.0
PRODID:-//rfr/addtomycal//NONSGML v1.0//EN
BEGIN:VEVENT
UID:rouen.fr
DTSTAMP:20260422T152435Z
DTSTART:20240627T190000Z
DTEND:20240627T190000Z
SUMMARY:Archéo Jazz - Philippe Bayle + Imany
DESCRIPTION:musique - Concert
 - tout public - Payant
 - Rens. : www.archeojazz.com
 - 
LOCATION:Château médiéval de Blainville-Crevon, Rouen
END:VEVENT
END:VCALENDAR
