BEGIN:VCALENDAR
VERSION:2.0
PRODID:-//rfr/addtomycal//NONSGML v1.0//EN
BEGIN:VEVENT
UID:rouen.fr
DTSTAMP:20260420T210459Z
DTSTART:20240706T124500Z
DTEND:20240706T134500Z
SUMMARY:Fête du fleuve - New Horizons Adult Wind Band
DESCRIPTION:musique - Fête du fleuve
 - tout public - Gratuit
 - Rens. : https:
LOCATION:
END:VEVENT
END:VCALENDAR
