BEGIN:VCALENDAR
VERSION:2.0
PRODID:-//rfr/addtomycal//NONSGML v1.0//EN
BEGIN:VEVENT
UID:rouen.fr
DTSTAMP:20260421T160936Z
DTSTART:20240706T191500Z
DTEND:20240706T204500Z
SUMMARY:Fête du fleuve - Aeon Seven
DESCRIPTION:musique - Fête du fleuve
 - tout public - Gratuit
 - Rens. : https:
LOCATION:
END:VEVENT
END:VCALENDAR
