BEGIN:VCALENDAR
VERSION:2.0
PRODID:-//rfr/addtomycal//NONSGML v1.0//EN
BEGIN:VEVENT
UID:rouen.fr
DTSTAMP:20260424T161507Z
DTSTART:20240709T160000Z
DTEND:20240709T160000Z
SUMMARY:Soirée casino
DESCRIPTION:atelier - Un été sur les Hauts
 - tout public - Gratuit
 - Informations & inscriptions
auprès du centre social
au 02 35 08 88 80
 - 
LOCATION:Centre social Diana Armengol-Markarian, Rouen
END:VEVENT
END:VCALENDAR
