BEGIN:VCALENDAR
VERSION:2.0
PRODID:-//rfr/addtomycal//NONSGML v1.0//EN
BEGIN:VEVENT
UID:rouen.fr
DTSTAMP:20260421T060805Z
DTSTART:20240710T080000Z
DTEND:20240710T080000Z
SUMMARY:Qi Gong
DESCRIPTION:atelier - Bien-être
 - senior - Sur inscription au 02 32 08 60 80
 -  - Durée : 1h
Rdv 10 minutes avant à côté du kiosque avec une petite bouteille d'eau

LOCATION:Jardin des plantes, 114 avenue des Martyrs de la Résistance
, Rouen
END:VEVENT
END:VCALENDAR
