BEGIN:VCALENDAR
VERSION:2.0
PRODID:-//rfr/addtomycal//NONSGML v1.0//EN
BEGIN:VEVENT
UID:rouen.fr
DTSTAMP:20260425T131252Z
DTSTART:20240711T080000Z
DTEND:20240711T080000Z
SUMMARY:Renforcement musculaire doux
DESCRIPTION:sport - Sport
 - senior - Sur inscription au 02 32 08 60 80
 -  - Durée : 1h
Rdv 10 minutes avant dans le gymnase avec une petite bouteille d'eau

LOCATION:Complexe sportif Saint-Exupéry, 24 boulevard Gambetta
, Rouen
END:VEVENT
END:VCALENDAR
