BEGIN:VCALENDAR
VERSION:2.0
PRODID:-//rfr/addtomycal//NONSGML v1.0//EN
BEGIN:VEVENT
UID:rouen.fr
DTSTAMP:20260424T201909Z
DTSTART:20240711T150000Z
DTEND:20240711T170000Z
SUMMARY:Massages en famille 
DESCRIPTION:atelier - Rouen sur mer
 - enfant - Gratuit
 - Sur inscription à l’accueil
Rens. : https:
LOCATION:
END:VEVENT
END:VCALENDAR
